BEGIN:VCALENDAR
VERSION:2.0
PRODID:-//Stirling &amp; District Camera Club - ECPv6.15.19//NONSGML v1.0//EN
CALSCALE:GREGORIAN
METHOD:PUBLISH
X-ORIGINAL-URL:https://sdcc.org.uk
X-WR-CALDESC:Events for Stirling &amp; District Camera Club
REFRESH-INTERVAL;VALUE=DURATION:PT1H
X-Robots-Tag:noindex
X-PUBLISHED-TTL:PT1H
BEGIN:VTIMEZONE
TZID:Europe/London
BEGIN:DAYLIGHT
TZOFFSETFROM:+0000
TZOFFSETTO:+0100
TZNAME:BST
DTSTART:20250330T010000
END:DAYLIGHT
BEGIN:STANDARD
TZOFFSETFROM:+0100
TZOFFSETTO:+0000
TZNAME:GMT
DTSTART:20251026T010000
END:STANDARD
BEGIN:DAYLIGHT
TZOFFSETFROM:+0000
TZOFFSETTO:+0100
TZNAME:BST
DTSTART:20260329T010000
END:DAYLIGHT
BEGIN:STANDARD
TZOFFSETFROM:+0100
TZOFFSETTO:+0000
TZNAME:GMT
DTSTART:20261025T010000
END:STANDARD
BEGIN:DAYLIGHT
TZOFFSETFROM:+0000
TZOFFSETTO:+0100
TZNAME:BST
DTSTART:20270328T010000
END:DAYLIGHT
BEGIN:STANDARD
TZOFFSETFROM:+0100
TZOFFSETTO:+0000
TZNAME:GMT
DTSTART:20271031T010000
END:STANDARD
END:VTIMEZONE
BEGIN:VEVENT
DTSTART;TZID=Europe/London:20260107T193000
DTEND;TZID=Europe/London:20260107T213000
DTSTAMP:20260422T170140
CREATED:20250924T155446Z
LAST-MODIFIED:20250924T155446Z
UID:4147-1767814200-1767821400@sdcc.org.uk
SUMMARY:Extreme Scotland
DESCRIPTION:Speaker: Nadir Khan
URL:https://sdcc.org.uk/event/extreme-scotland/
LOCATION:Birds and Bees\, Easter Cornton Rd\, Stirling FK9 5PB\, Stirling\, FK9 5PB\, United Kingdom
CATEGORIES:Lecture
END:VEVENT
BEGIN:VEVENT
DTSTART;TZID=Europe/London:20260114T193000
DTEND;TZID=Europe/London:20260114T213000
DTSTAMP:20260422T170140
CREATED:20250924T160038Z
LAST-MODIFIED:20251231T192403Z
UID:4155-1768419000-1768426200@sdcc.org.uk
SUMMARY:Photographic Journey and Encaustics
DESCRIPTION:Speaker: David Mould
URL:https://sdcc.org.uk/event/photographic-journey-and-encaustics/
LOCATION:Birds and Bees\, Easter Cornton Rd\, Stirling FK9 5PB\, Stirling\, FK9 5PB\, United Kingdom
CATEGORIES:Lecture
END:VEVENT
END:VCALENDAR